BEGIN:VCALENDAR
VERSION:2.0
PRODID:-//GL Training - ECPv5.1.6//NONSGML v1.0//EN
CALSCALE:GREGORIAN
METHOD:PUBLISH
X-WR-CALNAME:GL Training
X-ORIGINAL-URL:https://highrisktraining.net.au
X-WR-CALDESC:Events for GL Training
BEGIN:VTIMEZONE
TZID:Australia/Brisbane
BEGIN:STANDARD
TZOFFSETFROM:+1000
TZOFFSETTO:+1000
TZNAME:AEST
DTSTART:20260101T000000
END:STANDARD
END:VTIMEZONE
BEGIN:VEVENT
DTSTART;TZID=Australia/Brisbane:20260424T070000
DTEND;TZID=Australia/Brisbane:20260424T150000
DTSTAMP:20260423T184535
CREATED:20260309T024841Z
LAST-MODIFIED:20260309T024841Z
UID:37893-1777014000-1777042800@highrisktraining.net.au
SUMMARY:GL_WORK SAFELY AT HEIGHTS
DESCRIPTION:GL_WORK SAFELY AT HEIGHTS \nGL_WSH\n\nRIIWHS204E - Work Safely at Heights\n \n\nIntroduction:\n \n\nTarget Audience:\n \n\n\nLearning Outcomes:\n \n\nLearning Methods:\n \n\nProgram Benefits:\n \n\nContent:\n \nEnquire \n\nUpcoming Workshops\nNameDateTimeLocationAvailable SpacesCost
URL:https://highrisktraining.net.au/event/gl_work-safely-at-heights/
LOCATION:GL Training\, GL Training\, Australia
CATEGORIES:Workshop
END:VEVENT
BEGIN:VEVENT
DTSTART;TZID=Australia/Brisbane:20260427T070000
DTEND;TZID=Australia/Brisbane:20260429T153000
DTSTAMP:20260423T184536
CREATED:20260313T011454Z
LAST-MODIFIED:20260313T011454Z
UID:38292-1777273200-1777476600@highrisktraining.net.au
SUMMARY:GL_FORKLIFT - LF LICENCE_3 Day
DESCRIPTION:GL_FORKLIFT - LF LICENCE_3 Day \nGL_HRW_LF\n\nTLILIC0003 - Licence to operate a forklift truck\n\nIntroduction:\n \n\nTarget Audience:\n \n\n\nLearning Outcomes:\n \n\nLearning Methods:\nIncludes theory and practical training \n\nProgram Benefits:\n \n\nContent:\n \nEnquire \n\nUpcoming Workshops\nNameDateTimeLocationAvailable SpacesCost
URL:https://highrisktraining.net.au/event/gl_forklift-lf-licence_3-day-10/
LOCATION:GL Training\, GL Training\, Australia
CATEGORIES:Workshop
END:VEVENT
BEGIN:VEVENT
DTSTART;TZID=Australia/Brisbane:20260427T070000
DTEND;TZID=Australia/Brisbane:20260427T150000
DTSTAMP:20260423T184536
CREATED:20260313T051725Z
LAST-MODIFIED:20260316T041947Z
UID:38297-1777273200-1777302000@highrisktraining.net.au
SUMMARY:GL_CONFINED SPACE WITH GAS TEST (1 Day)
DESCRIPTION:GL_CONFINED SPACE WITH GAS TEST (1 Day) \nGL_CSE-1DAY\n\nUnits included:\nMSMWHS217 - Gas test atmosphere\nRIIWHS202E - Enter and work in confined spaces\n\nIntroduction:\n \n\nTarget Audience:\n \n\n\nLearning Outcomes:\n \n\nLearning Methods:\nIncludes theory and practical training \n\nProgram Benefits:\n \n\nContent:\n \nEnquire \n\nUpcoming Workshops\nNameDateTimeLocationAvailable SpacesCost
URL:https://highrisktraining.net.au/event/gl_confined-space-with-gas-test-1-day-4/
LOCATION:GL Training\, GL Training\, Australia
CATEGORIES:Workshop
END:VEVENT
BEGIN:VEVENT
DTSTART;TZID=Australia/Brisbane:20260428T070000
DTEND;TZID=Australia/Brisbane:20260430T153000
DTSTAMP:20260423T184537
CREATED:20260413T043940Z
LAST-MODIFIED:20260413T043940Z
UID:38392-1777359600-1777563000@highrisktraining.net.au
SUMMARY:GL_FORKLIFT - LF LICENCE_3 Day
DESCRIPTION:GL_FORKLIFT - LF LICENCE_3 Day \nGL_HRW_LF\n\nTLILIC0003 - Licence to operate a forklift truck\n\nIntroduction:\n \n\nTarget Audience:\n \n\n\nLearning Outcomes:\n \n\nLearning Methods:\nIncludes theory and practical training \n\nProgram Benefits:\n \n\nContent:\n \nEnquire \n\nUpcoming Workshops\nNameDateTimeLocationAvailable SpacesCost
URL:https://highrisktraining.net.au/event/gl_forklift-lf-licence_3-day-23/
LOCATION:GL Training\, GL Training\, Australia
CATEGORIES:Workshop
END:VEVENT
BEGIN:VEVENT
DTSTART;TZID=Australia/Brisbane:20260429T070000
DTEND;TZID=Australia/Brisbane:20260501T153000
DTSTAMP:20260423T184538
CREATED:20260317T233405Z
LAST-MODIFIED:20260317T233405Z
UID:38338-1777446000-1777649400@highrisktraining.net.au
SUMMARY:GL_FORKLIFT - LF LICENCE_3 Day
DESCRIPTION:GL_FORKLIFT - LF LICENCE_3 Day \nGL_HRW_LF\n\nTLILIC0003 - Licence to operate a forklift truck\n\nIntroduction:\n \n\nTarget Audience:\n \n\n\nLearning Outcomes:\n \n\nLearning Methods:\nIncludes theory and practical training \n\nProgram Benefits:\n \n\nContent:\n \nEnquire \n\nUpcoming Workshops\nNameDateTimeLocationAvailable SpacesCost
URL:https://highrisktraining.net.au/event/gl_forklift-lf-licence_3-day-6/
LOCATION:GL Training\, GL Training\, Australia
CATEGORIES:Workshop
END:VEVENT
BEGIN:VEVENT
DTSTART;TZID=Australia/Brisbane:20260501T070000
DTEND;TZID=Australia/Brisbane:20260501T150000
DTSTAMP:20260423T184539
CREATED:20260317T233403Z
LAST-MODIFIED:20260317T233403Z
UID:38336-1777618800-1777647600@highrisktraining.net.au
SUMMARY:GL_WORK SAFELY AT HEIGHTS
DESCRIPTION:GL_WORK SAFELY AT HEIGHTS \nGL_WSH\n\nRIIWHS204E - Work Safely at Heights\n \n\nIntroduction:\n \n\nTarget Audience:\n \n\n\nLearning Outcomes:\n \n\nLearning Methods:\n \n\nProgram Benefits:\n \n\nContent:\n \nEnquire \n\nUpcoming Workshops\nNameDateTimeLocationAvailable SpacesCost
URL:https://highrisktraining.net.au/event/gl_work-safely-at-heights-6/
LOCATION:GL Training\, GL Training\, Australia
CATEGORIES:Workshop
END:VEVENT
BEGIN:VEVENT
DTSTART;TZID=Australia/Brisbane:20260501T070000
DTEND;TZID=Australia/Brisbane:20260501T150000
DTSTAMP:20260423T184540
CREATED:20260324T233524Z
LAST-MODIFIED:20260324T233524Z
UID:38344-1777618800-1777647600@highrisktraining.net.au
SUMMARY:GL_TELEHANDLER
DESCRIPTION:GL_TELEHANDLER \nGL_TH\n\nRIIHAN309F - Conduct telescopic materials handler operations\n\nIntroduction:\n \n\nTarget Audience:\n \n\n\nLearning Outcomes:\n \n\nLearning Methods:\nIncludes theory and practical training \n\nProgram Benefits:\n \n\nContent:\n \nEnquire \n\nUpcoming Workshops\nNameDateTimeLocationAvailable SpacesCost
URL:https://highrisktraining.net.au/event/gl_telehandler/
LOCATION:GL Training\, GL Training\, Australia
CATEGORIES:Workshop
END:VEVENT
END:VCALENDAR