BEGIN:VCALENDAR
VERSION:2.0
PRODID:-//GL Training - ECPv5.1.6//NONSGML v1.0//EN
CALSCALE:GREGORIAN
METHOD:PUBLISH
X-WR-CALNAME:GL Training
X-ORIGINAL-URL:https://highrisktraining.net.au
X-WR-CALDESC:Events for GL Training
BEGIN:VTIMEZONE
TZID:Australia/Brisbane
BEGIN:STANDARD
TZOFFSETFROM:+1000
TZOFFSETTO:+1000
TZNAME:AEST
DTSTART:20260101T000000
END:STANDARD
END:VTIMEZONE
BEGIN:VEVENT
DTSTART;TZID=Australia/Brisbane:20260522T070000
DTEND;TZID=Australia/Brisbane:20260522T143000
DTSTAMP:20260423T220018
CREATED:20260423T053736Z
LAST-MODIFIED:20260423T053736Z
UID:38438-1779433200-1779460200@highrisktraining.net.au
SUMMARY:GL_WHITECARD
DESCRIPTION:GL_WHITECARD \nGL_WC\n\nCPCWHS1001 – Prepare to Work Safely in the Construction Industry\n\nIntroduction:\n \n\nTarget Audience:\n \n\n\nLearning Outcomes:\n \n\nLearning Methods:\n \n\nProgram Benefits:\n \n\nContent:\n \nEnquire \n\nUpcoming Workshops\nNameDateTimeLocationAvailable SpacesCostGL_WHITECARD\n				22 May 2026\n				07:00 am - 02:30 pm\n				GL Training\n				10\n				$130.00\n				Enrol
URL:https://highrisktraining.net.au/event/gl_whitecard-3/
LOCATION:GL Training\, GL Training\, Australia
CATEGORIES:Workshop
END:VEVENT
END:VCALENDAR